BEGIN:VCALENDAR
VERSION:2.0
PRODID:-//Squarespace Inc/Squarespace 6//v6//EN
BEGIN:VEVENT
UID:5b8c988440ec9a2651e58b57@squarespace.com
DTSTAMP:20180903T024404Z
DTSTART:20181011T191500Z
DTEND:20181013T031500Z
SUMMARY:FEILDING CHRISTMAS CRAFT MARKET
GEO:-40.225336;175.567479
LOCATION:Manfield\, Feilding\, New Zealand
END:VEVENT
END:VCALENDAR
