BEGIN:VCALENDAR
VERSION:2.0
PRODID:-//Squarespace Inc/Squarespace 6//v6//EN
BEGIN:VEVENT
UID:5b8c9a8a4fa51ae1229cd54c@squarespace.com
DTSTAMP:20180903T022448Z
DTSTART:20181018T201500Z
DTEND:20181022T071500Z
SUMMARY:CARNIVAL OF LIGHTS - LOWER HUTT
GEO:-41.209165;174.908056
LOCATION:lower hutt\, New zealand
END:VEVENT
END:VCALENDAR
