BEGIN:VCALENDAR
VERSION:2.0
PRODID:-//Squarespace Inc/Squarespace 6//v6//EN
BEGIN:VEVENT
UID:5b8cb0ae6d2a7323d9333fce@squarespace.com
DTSTAMP:20180903T035733Z
DTSTART:20181020T231500Z
DTEND:20181021T031500Z
SUMMARY:WILD HEARTS WEDDING FAIR HAWKE'S BAY
GEO:-39.108987;176.741637
LOCATION:Black Barn Vineyards\, Hawke's Bay\, New Zealand
END:VEVENT
END:VCALENDAR
