BEGIN:VCALENDAR
VERSION:2.0
PRODID:-//Squarespace Inc/Squarespace 6//v6//EN
BEGIN:VEVENT
UID:5b8cb2d5352f53facc28df61@squarespace.com
DTSTAMP:20181007T231901Z
DTSTART:20181026T201500Z
DTEND:20181027T031500Z
SUMMARY:LITTLE CUBA FESTIVAL - PALMY
END:VEVENT
END:VCALENDAR
