BEGIN:VCALENDAR
VERSION:2.0
PRODID:-//Squarespace Inc/Squarespace 6//v6//EN
BEGIN:VEVENT
UID:5bba9465e79c70e0436c61af@squarespace.com
DTSTAMP:20181007T232221Z
DTSTART:20181102T191500Z
DTEND:20181104T021500Z
SUMMARY:MANAWATU A&amp\;P SHOW
GEO:-40.225336;175.567479
LOCATION:manfield\, feilding
END:VEVENT
END:VCALENDAR
