BEGIN:VCALENDAR
VERSION:2.0
PRODID:-//Squarespace Inc/Squarespace 6//v6//EN
BEGIN:VEVENT
UID:5b959ce88a922dd0d7512ef1@squarespace.com
DTSTAMP:20180909T222322Z
DTSTART:20181116T201500Z
DTEND:20181118T031500Z
SUMMARY:CROSSHILLS COUNTRY FAIR
GEO:-40.02453;175.788372
LOCATION:Crosshills Gardens\, 339 Rangiwahia Road\, Kimbolton\, Manawatu-Wa
 nganui\, 4774\, New Zealand
END:VEVENT
END:VCALENDAR
