BEGIN:VCALENDAR
VERSION:2.0
PRODID:-//Squarespace Inc/Squarespace 6//v6//EN
BEGIN:VEVENT
UID:5b959d81cd83660363e3eeea@squarespace.com
DTSTAMP:20180909T222515Z
DTSTART:20181130T201500Z
DTEND:20181201T031500Z
SUMMARY:KAPITI FOOD FAIR
END:VEVENT
END:VCALENDAR
