BEGIN:VCALENDAR
VERSION:2.0
PRODID:-//Squarespace Inc/Squarespace 6//v6//EN
BEGIN:VEVENT
UID:5b959e5f0ebbe8f03f5678ff@squarespace.com
DTSTAMP:20180909T222831Z
DTSTART:20181215T001500Z
DTEND:20181215T081500Z
SUMMARY:CHRISTMAS IN THE SQUARE PALMY
END:VEVENT
END:VCALENDAR
