BEGIN:VCALENDAR
VERSION:2.0
PRODID:-//Squarespace Inc/Squarespace 6//v6//EN
BEGIN:VEVENT
UID:5b959de4575d1fa688441714@squarespace.com
DTSTAMP:20180909T222717Z
DTSTART:20181204T001500Z
DTEND:20181205T071500Z
SUMMARY:MAGIC OF CHRISTMAS NIGHT MARKET
GEO:-40.352306;175.608215
LOCATION:Awapuni Racecourse\, Palmerston North
END:VEVENT
END:VCALENDAR
