BEGIN:VCALENDAR
VERSION:2.0
PRODID:-//Squarespace Inc/Squarespace 6//v6//EN
BEGIN:VEVENT
UID:5b276c90758d468433056bb8@squarespace.com
DTSTAMP:20180621T010924Z
DTSTART:20180620T054500Z
DTEND:20180620T081500Z
SUMMARY:CAKE CLASS - OPEN - MACARON CLASS
GEO:-40.356656;175.604375
LOCATION:THE CRAFTED AND CO\, 123 Cuba Street\, Palmerston North\, Manawatu
 -Wanganui\, 4410\, New Zealand
END:VEVENT
END:VCALENDAR
