BEGIN:VCALENDAR
VERSION:2.0
PRODID:-//Squarespace Inc/Squarespace 6//v6//EN
BEGIN:VEVENT
UID:5bbaa7e171c10b92927acb14@squarespace.com
DTSTAMP:20181008T004223Z
DTSTART:20181130T031500Z
DTEND:20181130T061500Z
SUMMARY:FRIDAY - DINNER - FEILDING - RAILWAY STATION
END:VEVENT
END:VCALENDAR
