BEGIN:VCALENDAR
VERSION:2.0
PRODID:-//Squarespace Inc/Squarespace 6//v6//EN
BEGIN:VEVENT
UID:5bbaa5a053450a0e433118c1@squarespace.com
DTSTAMP:20181008T004044Z
DTSTART:20181102T031500Z
DTEND:20181102T061500Z
SUMMARY:FRIDAY - DINNER - FEILDING - RAILWAY STATION
END:VEVENT
END:VCALENDAR
