BEGIN:VCALENDAR
VERSION:2.0
PRODID:-//Squarespace Inc/Squarespace 6//v6//EN
BEGIN:VEVENT
UID:5c6ca8dd4192028c2fb93329@squarespace.com
DTSTAMP:20190220T010958Z
DTSTART:20190322T031500Z
DTEND:20190322T061500Z
SUMMARY:FRIDAY - DINNER - FEILDING - RAILWAY STATION
END:VEVENT
END:VCALENDAR
