BEGIN:VCALENDAR
VERSION:2.0
PRODID:-//Squarespace Inc/Squarespace 6//v6//EN
BEGIN:VEVENT
UID:5c9aaf2053450a0956d08d1d@squarespace.com
DTSTAMP:20190326T230100Z
DTSTART:20190503T041500Z
DTEND:20190503T071500Z
SUMMARY:FRIDAY - DINNER - FEILDING - RAILWAY STATION
END:VEVENT
END:VCALENDAR
