BEGIN:VCALENDAR
VERSION:2.0
PRODID:-//Squarespace Inc/Squarespace 6//v6//EN
BEGIN:VEVENT
UID:5c9aaf5fe5e5f0e2a1ac1ee1@squarespace.com
DTSTAMP:20190326T230201Z
DTSTART:20190524T041500Z
DTEND:20190524T071500Z
SUMMARY:FRIDAY - DINNER - FEILDING - RAILWAY STATION
END:VEVENT
END:VCALENDAR
