BEGIN:VCALENDAR
VERSION:2.0
PRODID:-//Squarespace Inc/Squarespace 6//v6//EN
BEGIN:VEVENT
UID:5c9aaeeefa0d6071318534a1@squarespace.com
DTSTAMP:20190326T230016Z
DTSTART:20190412T041500Z
DTEND:20190412T071500Z
SUMMARY:FRIDAY - DINNER - FEILDING - RAILWAY STATION
END:VEVENT
END:VCALENDAR
