BEGIN:VCALENDAR
VERSION:2.0
PRODID:-//Squarespace Inc/Squarespace 6//v6//EN
BEGIN:VEVENT
UID:5c9aaf084e17b64e4e133614@squarespace.com
DTSTAMP:20190326T230038Z
DTSTART:20190426T041500Z
DTEND:20190426T071500Z
SUMMARY:FRIDAY - DINNER - FEILDING - RAILWAY STATION
END:VEVENT
END:VCALENDAR
