BEGIN:VCALENDAR
VERSION:2.0
PRODID:-//Squarespace Inc/Squarespace 6//v6//EN
BEGIN:VEVENT
UID:5c9aaedafa0d60713185333d@squarespace.com
DTSTAMP:20190326T225949Z
DTSTART:20190405T031500Z
DTEND:20190405T061500Z
SUMMARY:FRIDAY - DINNER - FEILDING - RAILWAY STATION
END:VEVENT
END:VCALENDAR
