BEGIN:VCALENDAR
VERSION:2.0
PRODID:-//Squarespace Inc/Squarespace 6//v6//EN
BEGIN:VEVENT
UID:5c9aaf4c9b747a64b066556a@squarespace.com
DTSTAMP:20190326T230142Z
DTSTART:20190517T041500Z
DTEND:20190517T071500Z
SUMMARY:FRIDAY - DINNER - FEILDING - RAILWAY STATION
END:VEVENT
END:VCALENDAR
