BEGIN:VCALENDAR
VERSION:2.0
PRODID:-//Squarespace Inc/Squarespace 6//v6//EN
BEGIN:VEVENT
UID:5c6caae84785d339520c149f@squarespace.com
DTSTAMP:20190220T011839Z
DTSTART:20190329T031500Z
DTEND:20190329T061500Z
SUMMARY:FRIDAY - DINNER - FEILDING - RAILWAY STATION
END:VEVENT
END:VCALENDAR
