BEGIN:VCALENDAR
VERSION:2.0
PRODID:-//Squarespace Inc/Squarespace 6//v6//EN
BEGIN:VEVENT
UID:5c37be5140ec9a4b3fd06378@squarespace.com
DTSTAMP:20190110T215130Z
DTSTART:20190215T031500Z
DTEND:20190215T061500Z
SUMMARY:FRIDAY - DINNER - FEILDING - RAILWAY STATION
END:VEVENT
END:VCALENDAR
