BEGIN:VCALENDAR
VERSION:2.0
PRODID:-//Squarespace Inc/Squarespace 6//v6//EN
BEGIN:VEVENT
UID:5c37be298a922d304f0cc772@squarespace.com
DTSTAMP:20190110T215050Z
DTSTART:20190208T031500Z
DTEND:20190208T061500Z
SUMMARY:FRIDAY - DINNER - FEILDING - RAILWAY STATION
END:VEVENT
END:VCALENDAR
