BEGIN:VCALENDAR
VERSION:2.0
PRODID:-//Squarespace Inc/Squarespace 6//v6//EN
BEGIN:VEVENT
UID:5bbaa7f99140b7048337ade9@squarespace.com
DTSTAMP:20181008T004251Z
DTSTART:20181207T031500Z
DTEND:20181207T061500Z
SUMMARY:FRIDAY - DINNER - FEILDING - RAILWAY STATION
END:VEVENT
END:VCALENDAR
