BEGIN:VCALENDAR
VERSION:2.0
PRODID:-//Squarespace Inc/Squarespace 6//v6//EN
BEGIN:VEVENT
UID:5bbaa7988165f56086f26931@squarespace.com
DTSTAMP:20181008T004120Z
DTSTART:20181109T031500Z
DTEND:20181109T061500Z
SUMMARY:FRIDAY - DINNER - FEILDING - RAILWAY STATION
END:VEVENT
END:VCALENDAR
