BEGIN:VCALENDAR
VERSION:2.0
PRODID:-//Squarespace Inc/Squarespace 6//v6//EN
BEGIN:VEVENT
UID:5bbaa7baf4e1fc3d3bb4e499@squarespace.com
DTSTAMP:20181008T004148Z
DTSTART:20181123T031500Z
DTEND:20181123T061500Z
SUMMARY:FRIDAY - DINNER - FEILDING - RAILWAY STATION
END:VEVENT
END:VCALENDAR
