BEGIN:VCALENDAR
VERSION:2.0
PRODID:-//Squarespace Inc/Squarespace 6//v6//EN
BEGIN:VEVENT
UID:5bbaa834f4e1fc3d3bb4e91f@squarespace.com
DTSTAMP:20181008T010337Z
DTSTART:20181116T031500Z
DTEND:20181116T061500Z
SUMMARY:FRIDAY - DINNER - FEILDING - RAILWAY STATION
END:VEVENT
END:VCALENDAR
