BEGIN:VCALENDAR
VERSION:2.0
PRODID:-//Squarespace Inc/Squarespace 6//v6//EN
BEGIN:VEVENT
UID:5b8cb018562fa736b2f936b2@squarespace.com
DTSTAMP:20180903T035308Z
DTSTART:20181019T031500Z
DTEND:20181019T061500Z
SUMMARY:FRIDAY - DINNER - FEILDING - RAILWAY STATION
END:VEVENT
END:VCALENDAR
