BEGIN:VCALENDAR
VERSION:2.0
PRODID:-//Squarespace Inc/Squarespace 6//v6//EN
BEGIN:VEVENT
UID:5b8cb29a8a922d7beea0f493@squarespace.com
DTSTAMP:20180903T040349Z
DTSTART:20181026T031500Z
DTEND:20181026T061500Z
SUMMARY:FRIDAY - DINNER - FEILDING - RAILWAY STATION
END:VEVENT
END:VCALENDAR
