BEGIN:VCALENDAR
VERSION:2.0
PRODID:-//Squarespace Inc/Squarespace 6//v6//EN
BEGIN:VEVENT
UID:5b8ca7620ebbe8ab9f0182cd@squarespace.com
DTSTAMP:20180903T031558Z
DTSTART:20180928T041500Z
DTEND:20180928T071500Z
SUMMARY:FRIDAY - DINNER - FEILDING - RAILWAY STATION
END:VEVENT
END:VCALENDAR
