BEGIN:VCALENDAR
VERSION:2.0
PRODID:-//Squarespace Inc/Squarespace 6//v6//EN
BEGIN:VEVENT
UID:5b8caf2b1ae6cf1d7df4868a@squarespace.com
DTSTAMP:20180903T034911Z
DTSTART:20181012T031500Z
DTEND:20181012T061500Z
SUMMARY:FRIDAY - DINNER - FEILDING - RAILWAY STATION
END:VEVENT
END:VCALENDAR
