BEGIN:VCALENDAR
VERSION:2.0
PRODID:-//Squarespace Inc/Squarespace 6//v6//EN
BEGIN:VEVENT
UID:5b8cadce2b6a289ccc36ffa5@squarespace.com
DTSTAMP:20180903T034324Z
DTSTART:20181005T031500Z
DTEND:20181005T061500Z
SUMMARY:FRIDAY - DINNER - FEILDING - RAILWAY STATION
END:VEVENT
END:VCALENDAR
