BEGIN:VCALENDAR
VERSION:2.0
PRODID:-//Squarespace Inc/Squarespace 6//v6//EN
BEGIN:VEVENT
UID:5b3b4104562fa77d933fbb14@squarespace.com
DTSTAMP:20180903T024945Z
DTSTART:20180907T041500Z
DTEND:20180907T071500Z
SUMMARY:FRIDAY - DINNER - FEILDING - RAILWAY STATION
END:VEVENT
END:VCALENDAR
