BEGIN:VCALENDAR
VERSION:2.0
PRODID:-//Squarespace Inc/Squarespace 6//v6//EN
BEGIN:VEVENT
UID:5b2afa3b575d1f53ad70595e@squarespace.com
DTSTAMP:20180621T010721Z
DTSTART:20180629T041500Z
DTEND:20180629T071500Z
SUMMARY:FRIDAY - DINNER - FEILDING - RAILWAY STATION
END:VEVENT
END:VCALENDAR
