BEGIN:VCALENDAR
VERSION:2.0
PRODID:-//Squarespace Inc/Squarespace 6//v6//EN
BEGIN:VEVENT
UID:5c6ca6399140b72028da6dce@squarespace.com
DTSTAMP:20190220T005854Z
DTSTART:20190307T191500Z
DTEND:20190307T234500Z
SUMMARY:FRIDAY - FEILDING FARMERS MARKET - TUCK 
GEO:-40.225336;175.567479
LOCATION:MANCHESTER SQUARE\, FEILDING\, NEW ZEALAND
END:VEVENT
END:VCALENDAR
