BEGIN:VCALENDAR
VERSION:2.0
PRODID:-//Squarespace Inc/Squarespace 6//v6//EN
BEGIN:VEVENT
UID:5b8cafd2aa4a99a498325cac@squarespace.com
DTSTAMP:20180903T035211Z
DTSTART:20181018T191500Z
DTEND:20181018T234500Z
SUMMARY:FRIDAY - FEILDING FARMERS MARKET - TUCK 
GEO:-40.225336;175.567479
LOCATION:MANCHESTER SQUARE\, FEILDING\, NEW ZEALAND
END:VEVENT
END:VCALENDAR
