BEGIN:VCALENDAR
VERSION:2.0
PRODID:-//Squarespace Inc/Squarespace 6//v6//EN
BEGIN:VEVENT
UID:5b8ca3ab352f53facc286715@squarespace.com
DTSTAMP:20180903T030016Z
DTSTART:20180913T201500Z
DTEND:20180914T004500Z
SUMMARY:FRIDAY - FEILDING FARMERS MARKET - TUCK 
GEO:-40.225336;175.567479
LOCATION:MANCHESTER SQUARE\, FEILDING\, NEW ZEALAND
END:VEVENT
END:VCALENDAR
