BEGIN:VCALENDAR
VERSION:2.0
PRODID:-//Squarespace Inc/Squarespace 6//v6//EN
BEGIN:VEVENT
UID:5b8ca4f688251b17eb351b71@squarespace.com
DTSTAMP:20180903T030540Z
DTSTART:20180920T201500Z
DTEND:20180921T004500Z
SUMMARY:FRIDAY - FEILDING FARMERS MARKET - TUCK 
GEO:-40.225336;175.567479
LOCATION:MANCHESTER SQUARE\, FEILDING\, NEW ZEALAND
END:VEVENT
END:VCALENDAR
