BEGIN:VCALENDAR
VERSION:2.0
PRODID:-//Squarespace Inc/Squarespace 6//v6//EN
BEGIN:VEVENT
UID:5b2773a52b6a2886445305bb@squarespace.com
DTSTAMP:20180621T010613Z
DTSTART:20180621T201500Z
DTEND:20180622T004500Z
SUMMARY:FRIDAY - FEILDING FARMERS MARKET - TUCK 
GEO:-40.225336;175.567479
LOCATION:MANCHESTER SQUARE\, FEILDING\, NEW ZEALAND
END:VEVENT
END:VCALENDAR
