BEGIN:VCALENDAR
VERSION:2.0
PRODID:-//Squarespace Inc/Squarespace 6//v6//EN
BEGIN:VEVENT
UID:5b3b416c70a6ad3628548ff1@squarespace.com
DTSTAMP:20180703T092746Z
DTSTART:20180705T041500Z
DTEND:20180705T071500Z
SUMMARY:THURSDAY - PAK N' SAVE MINI - LEVIN
GEO:-40.346317;175.634338
LOCATION:MEMORIAL PARK\, MAIN STREET\, PALMERSTON NORTH\, NEW ZEALAND
END:VEVENT
END:VCALENDAR
