BEGIN:VCALENDAR
VERSION:2.0
PRODID:-//Squarespace Inc/Squarespace 6//v6//EN
BEGIN:VEVENT
UID:5b8ca5e488251b17eb35227e@squarespace.com
DTSTAMP:20180903T071634Z
DTSTART:20180927T041500Z
DTEND:20180927T071500Z
SUMMARY:THURSDAY - MEMORIAL PARK - PALMY
GEO:-40.346317;175.634338
LOCATION:MEMORIAL PARK\, MAIN STREET\, PALMERSTON NORTH\, NEW ZEALAND
END:VEVENT
END:VCALENDAR
