BEGIN:VCALENDAR
VERSION:2.0
PRODID:-//Squarespace Inc/Squarespace 6//v6//EN
BEGIN:VEVENT
UID:5c37bd3b0ebbe8d4f488350b@squarespace.com
DTSTAMP:20190110T214648Z
DTSTART:20190228T031500Z
DTEND:20190228T061500Z
SUMMARY:THURSDAY - MEMORIAL PARK - PALMY
GEO:-40.346317;175.634338
LOCATION:MEMORIAL PARK\, MAIN STREET\, PALMERSTON NORTH\, NEW ZEALAND
END:VEVENT
END:VCALENDAR
