BEGIN:VCALENDAR
VERSION:2.0
PRODID:-//Squarespace Inc/Squarespace 6//v6//EN
BEGIN:VEVENT
UID:5bbaadb10d929783f9b32e76@squarespace.com
DTSTAMP:20181008T010711Z
DTSTART:20190117T031500Z
DTEND:20190117T061500Z
SUMMARY:THURSDAY - MEMORIAL PARK - PALMY
GEO:-40.346317;175.634338
LOCATION:MEMORIAL PARK\, MAIN STREET\, PALMERSTON NORTH\, NEW ZEALAND
END:VEVENT
END:VCALENDAR
