BEGIN:VCALENDAR
VERSION:2.0
PRODID:-//Squarespace Inc/Squarespace 6//v6//EN
BEGIN:VEVENT
UID:5bbaad1c4192025ef74ddb6f@squarespace.com
DTSTAMP:20181008T010441Z
DTSTART:20181206T031500Z
DTEND:20181206T061500Z
SUMMARY:THURSDAY - MEMORIAL PARK - PALMY
GEO:-40.346317;175.634338
LOCATION:MEMORIAL PARK\, MAIN STREET\, PALMERSTON NORTH\, NEW ZEALAND
END:VEVENT
END:VCALENDAR
