BEGIN:VCALENDAR
VERSION:2.0
PRODID:-//Squarespace Inc/Squarespace 6//v6//EN
BEGIN:VEVENT
UID:5b8cb1750e2e725ec15c5fd4@squarespace.com
DTSTAMP:20180903T072914Z
DTSTART:20181025T031500Z
DTEND:20181025T061500Z
SUMMARY:THURSDAY - MEMORIAL PARK - PALMY
GEO:-40.346317;175.634338
LOCATION:MEMORIAL PARK\, MAIN STREET\, PALMERSTON NORTH\, NEW ZEALAND
END:VEVENT
END:VCALENDAR
