BEGIN:VCALENDAR
VERSION:2.0
PRODID:-//Squarespace Inc/Squarespace 6//v6//EN
BEGIN:VEVENT
UID:5b8cad8740ec9a2651e64494@squarespace.com
DTSTAMP:20180903T034219Z
DTSTART:20181004T211500Z
DTEND:20181004T234500Z
SUMMARY:FRIDAY -LUNCH - THE FACTORY
GEO:-40.379876;175.613808
LOCATION:THE FACOTRY\, 21 Dairy Farm Road\, Palmerston North\, Manawatu-Wan
 ganui\, 4474\, New Zealand
END:VEVENT
END:VCALENDAR
