BEGIN:VCALENDAR
VERSION:2.0
PRODID:-//Squarespace Inc/Squarespace 6//v6//EN
BEGIN:VEVENT
UID:5bbaa520f4e1fc3d3bb4c54f@squarespace.com
DTSTAMP:20181008T003043Z
DTSTART:20181122T211500Z
DTEND:20181122T234500Z
SUMMARY:FRIDAY -LUNCH - THE FACTORY
GEO:-40.379876;175.613808
LOCATION:THE FACOTRY\, 21 Dairy Farm Road\, Palmerston North\, Manawatu-Wan
 ganui\, 4474\, New Zealand
END:VEVENT
END:VCALENDAR
