BEGIN:VCALENDAR
VERSION:2.0
PRODID:-//Squarespace Inc/Squarespace 6//v6//EN
BEGIN:VEVENT
UID:5bbaa53cc83025c9ab788b1e@squarespace.com
DTSTAMP:20181008T003108Z
DTSTART:20181129T211500Z
DTEND:20181129T234500Z
SUMMARY:FRIDAY -LUNCH - THE FACTORY
GEO:-40.379876;175.613808
LOCATION:THE FACOTRY\, 21 Dairy Farm Road\, Palmerston North\, Manawatu-Wan
 ganui\, 4474\, New Zealand
END:VEVENT
END:VCALENDAR
