BEGIN:VCALENDAR
VERSION:2.0
PRODID:-//Squarespace Inc/Squarespace 6//v6//EN
BEGIN:VEVENT
UID:5bbaa4f6a4222f8e8816d4f7@squarespace.com
DTSTAMP:20181008T002956Z
DTSTART:20181115T211500Z
DTEND:20181115T234500Z
SUMMARY:FRIDAY -LUNCH - THE FACTORY
GEO:-40.379876;175.613808
LOCATION:THE FACOTRY\, 21 Dairy Farm Road\, Palmerston North\, Manawatu-Wan
 ganui\, 4474\, New Zealand
END:VEVENT
END:VCALENDAR
