BEGIN:VCALENDAR
VERSION:2.0
PRODID:-//Squarespace Inc/Squarespace 6//v6//EN
BEGIN:VEVENT
UID:5b276ab8f950b7fedf379a28@squarespace.com
DTSTAMP:20180903T025506Z
DTSTART:20180906T221500Z
DTEND:20180907T004500Z
SUMMARY:FRIDAY -LUNCH - THE FACTORY
GEO:-40.379876;175.613808
LOCATION:THE FACOTRY\, 21 Dairy Farm Road\, Palmerston North\, Manawatu-Wan
 ganui\, 4474\, New Zealand
END:VEVENT
END:VCALENDAR
