BEGIN:VCALENDAR
VERSION:2.0
PRODID:-//Squarespace Inc/Squarespace 6//v6//EN
BEGIN:VEVENT
UID:5b3b40dbf950b77a261c8307@squarespace.com
DTSTAMP:20180703T092509Z
DTSTART:20180707T021500Z
DTEND:20180707T071500Z
SUMMARY:SATURDAY - MEMORIAL PARK - PALMY
END:VEVENT
END:VCALENDAR
